BEGIN:VCALENDAR
VERSION:2.0
PRODID:-//Heart of the Valley Homebrewers - ECPv6.15.17.1//NONSGML v1.0//EN
CALSCALE:GREGORIAN
METHOD:PUBLISH
X-ORIGINAL-URL:https://hotv.org
X-WR-CALDESC:Events for Heart of the Valley Homebrewers
REFRESH-INTERVAL;VALUE=DURATION:PT1H
X-Robots-Tag:noindex
X-PUBLISHED-TTL:PT1H
BEGIN:VTIMEZONE
TZID:UTC
BEGIN:STANDARD
TZOFFSETFROM:+0000
TZOFFSETTO:+0000
TZNAME:UTC
DTSTART:20210101T000000
END:STANDARD
END:VTIMEZONE
BEGIN:VEVENT
DTSTART;VALUE=DATE:20220820
DTEND;VALUE=DATE:20220821
DTSTAMP:20260421T195345
CREATED:20220322T031432Z
LAST-MODIFIED:20220322T031432Z
UID:820-1660953600-1661039999@hotv.org
SUMMARY:Club Camp-Out in Kings Valley
DESCRIPTION:
URL:https://hotv.org/event/club-camp-out-in-kings-valley/
END:VEVENT
END:VCALENDAR