BEGIN:VCALENDAR
VERSION:2.0
PRODID:-//Heart of the Valley Homebrewers - ECPv6.15.17.1//NONSGML v1.0//EN
CALSCALE:GREGORIAN
METHOD:PUBLISH
X-WR-CALNAME:Heart of the Valley Homebrewers
X-ORIGINAL-URL:https://hotv.org
X-WR-CALDESC:Events for Heart of the Valley Homebrewers
REFRESH-INTERVAL;VALUE=DURATION:PT1H
X-Robots-Tag:noindex
X-PUBLISHED-TTL:PT1H
BEGIN:VTIMEZONE
TZID:UTC
BEGIN:STANDARD
TZOFFSETFROM:+0000
TZOFFSETTO:+0000
TZNAME:UTC
DTSTART:20190101T000000
END:STANDARD
END:VTIMEZONE
BEGIN:VEVENT
DTSTART;TZID=UTC:20200415T190000
DTEND;TZID=UTC:20200415T200000
DTSTAMP:20260423T151729
CREATED:20200403T005024Z
LAST-MODIFIED:20200403T005024Z
UID:739-1586977200-1586980800@hotv.org
SUMMARY:April HOTV Genera Meeting*
DESCRIPTION:* Meeting has moved online due to the Covid-19 pandemic. \n \nThis is a standard club meeting that will be hosted by one of our club members. Meetings are held on the third Wednesday of every month. Feel free to bring your latest home-brewed creation for feedback or just for fun. This event is open to prospective members who are at least 21 years of age. Please email the event organizer for the location of this and future events. You are responsible for your own transportation to and from the event. Please drive responsibly. \n  \nEvent Timeline\n7:00 PM …………………. Social & Home-brew Tasting \n7:30 PM …………………. Club Business \n8:00 PM …………………. Social & Home-brew Tasting \n8:30 PM …………………. End of Event \nNo educational topic this week \n  \nIf you are interested in joining Heart of the Valley Homebrewers\, please bring cash or a personal check to the amount of $20 and deliver it to our clubs treasurer. \n 
URL:https://hotv.org/event/april-hotv-genera-meeting/
END:VEVENT
BEGIN:VEVENT
DTSTART;TZID=UTC:20200418T120000
DTEND;TZID=UTC:20200418T190000
DTSTAMP:20260423T151729
CREATED:20200404T194525Z
LAST-MODIFIED:20200404T201609Z
UID:764-1587211200-1587236400@hotv.org
SUMMARY:#BYOBEERFEST
DESCRIPTION:Heart of the Valley Homebrewers are putting together an effort to help workers in the Mid-Willamette valley who have been laid off as a result of the impact from COVID-19. Follow the link to the event page below to learn more about the event\, and to support our local brewery workers! \n#BYOBEERFEST \n \nLink to the official event website. \nLink to the web form for workers affected by COVID-19
URL:https://hotv.org/event/byobeerfest/
LOCATION:@Home
ORGANIZER;CN="HotV Club Organizers":MAILTO:info2019@hotv.org
END:VEVENT
END:VCALENDAR