BEGIN:VCALENDAR
VERSION:2.0
PRODID:-//Heart of the Valley Homebrewers - ECPv6.15.17.1//NONSGML v1.0//EN
CALSCALE:GREGORIAN
METHOD:PUBLISH
X-WR-CALNAME:Heart of the Valley Homebrewers
X-ORIGINAL-URL:https://hotv.org
X-WR-CALDESC:Events for Heart of the Valley Homebrewers
REFRESH-INTERVAL;VALUE=DURATION:PT1H
X-Robots-Tag:noindex
X-PUBLISHED-TTL:PT1H
BEGIN:VTIMEZONE
TZID:UTC
BEGIN:STANDARD
TZOFFSETFROM:+0000
TZOFFSETTO:+0000
TZNAME:UTC
DTSTART:20180101T000000
END:STANDARD
END:VTIMEZONE
BEGIN:VEVENT
DTSTART;TZID=UTC:20190705T190000
DTEND;TZID=UTC:20190705T210000
DTSTAMP:20260421T162921
CREATED:20190108T174736Z
LAST-MODIFIED:20190108T174736Z
UID:332-1562353200-1562360400@hotv.org
SUMMARY:July HotV Club Social or Campout
DESCRIPTION:It is still undecided if we will be hosting the 3rd annual club summer campout or if we will be holding a social. TBD
URL:https://hotv.org/event/social-jul2019/
END:VEVENT
END:VCALENDAR